BEGIN:VCALENDAR
VERSION:2.0
PRODID:-//wp-events-plugin.com//6.1.3//EN
TZID:Europe/Madrid
X-WR-TIMEZONE:Europe/Madrid
BEGIN:VEVENT
UID:4234@tribunificada.com
DTSTART;TZID=Europe/Madrid:20260509T144500
DTEND;TZID=Europe/Madrid:20260509T201500
DTSTAMP:20260421T121327Z
URL:https://tribunificada.com/ev/taller-de-constelaciones-del-espiritu-y-c
 osmicas/
SUMMARY:Taller de Constelaciones del espiritu y cósmicas
DESCRIPTION:CONSTELACIONES FAMILIARES (DEL ESPÍRITU) Y CÓSMICAS — BCN\n
 Un espacio para ordenar lo que influye en tu vida y no siempre es visible.
 \nA través de este taller y trabajo\, se revelan dinámicas profundas\, v
 ínculos no resueltos y cargas que pueden estar limitando tu bienestar\, t
 us relaciones o tu dirección. El propósito es claro: dar lugar\, liberar
  y permitir un nuevo movimiento más alineado.\nFacilitado por Alexandra A
 lbano\, terapeuta sistémica.\nTrabajo en grupo\, con participación activ
 a o como observador. Se incluirán ejercicios de reflexión individual\, m
 ovimientos sistémicos y más.                   “Los humanos d
 ependemos\, en todos los sentidos\, de la ayuda de otros…” — Bert He
 llinger\n\n📍 Eixample\, Barcelona\n🗓 Sábado 09 de mayo de 2026\n
 🕔 De 15 a 20h\n🧧Intercambio € 36\n📞 Más info 627 816 555\nPlaz
 as limitadas. Reserva previa necesaria.
ATTACH;FMTTYPE=image/jpeg:https://tribunificada.com/wp-content/uploads/202
 6/04/Constelaciones-mayo-2026-BCN.jpg
CATEGORIES:Eventos No Periodicos
LOCATION:Centre Sagrada Familia\, Sardenya 326\, Entresuelo 3a\, Barcelona\
 , Catalunya\, Barcelona\, España
X-APPLE-STRUCTURED-LOCATION;VALUE=URI;X-ADDRESS=Sardenya 326\, Entresuelo 3
 a\, Barcelona\, Catalunya\, Barcelona\, España;X-APPLE-RADIUS=100;X-TITLE
 =Centre Sagrada Familia:geo:0,0
END:VEVENT
BEGIN:VTIMEZONE
TZID:Europe/Madrid
X-LIC-LOCATION:Europe/Madrid
BEGIN:DAYLIGHT
DTSTART:20260329T030000
TZOFFSETFROM:+0100
TZOFFSETTO:+0200
TZNAME:CEST
END:DAYLIGHT
END:VTIMEZONE
END:VCALENDAR