BEGIN:VCALENDAR
VERSION:2.0
PRODID:-//wp-events-plugin.com//6.1.3//EN
TZID:Europe/Madrid
X-WR-TIMEZONE:Europe/Madrid
BEGIN:VEVENT
UID:4232@tribunificada.com
DTSTART;TZID=Europe/Madrid:20260425T113000
DTEND;TZID=Europe/Madrid:20260425T180000
DTSTAMP:20260419T224612Z
URL:https://tribunificada.com/ev/sesion-formativa-contact-impro-chi-kung-f
 ilosofia/
SUMMARY:Sesion formativa: contact impro + chi kung + filosofía
DESCRIPTION:SESIONES FORMATIVAS \nhacia el Contact Improvisación combinado
  con formación en Chi Kung\, Tai Chi Chuan y Filosofía.\n\nCiclo de sesi
 ones intensivas a realizarse los sábados 29/11\, 17/01\, 14/02\, 14/03\, 
 25/4 y 16/05\n\nPróxima Sesión: 25/04 de 11:30hs a 18hs\n\nLugar: La Pic
 onera\, Carrer de Sancho Marraco 6 en el corazón del Montjüic.\n\nValore
 s: \nCiclo de 5 sesiones (incluye camiseta y certificado): 275€\nSesión
  aislada: 65€\nFacilita: Gonzalo Barales\, artista marcial\, bailarín c
 ontemporáneo e investigador de movimiento.\n\nInfo completa: wa 600915832
  / vitalnexus.net/ciclo-formativo\n\n¿Para qué asistir?\nPara trabajar l
 as bases y profundizar en la práctica y danza del Contact Improvisación.
 \nPara aprender ejercicios de tres sistemas de Chi Kung muy potentes e inc
 orporar su práctica y beneficios a nuestra vitalidad en el día a día.\n
 Para empoderar nuestra corporalidad y mentalidad desde la sensibilidad mar
 cial y poder estructural interno del Tai Chi Chuan tradicional.\nPara apre
 nder principios del Taoísmo y aplicar su sabiduría natural de forma prá
 ctica en las danzas y la vida.\nObjetivos: \n1. Ampliar nuestros recursos 
 para la práctica del Contact Improvisación mediante el estudio de discip
 linas y filosofías que potencian nuestras aptitudes físicas\, mentales y
  emocionales.\n2. Aprender ejercicios y conceptos que nos serán útiles p
 ara nuestra práctica personal en el día a día y así mejorar nuestra ca
 lidad de vida en relación a nuestras formas de movernos\, pensarnos y rel
 acionarnos.\nDiseño:\nEl Ciclo Completo está diseñado para llevarnos de
 sde un lugar interno y sutil\, hacia el empoderamiento\, la fortaleza inte
 rior e integridad. Luego el proceso nos invita a ablandarnos para encontra
 r nuestra propia manera personal\, intuitiva y segura de movernos\, bailar
  y abrirnos al encuentro.\n¿Por qué esta combinación?\nEl Contact Impro
 visación requiere un estado de presencia y disponibilidad corporal muy pr
 ofundo y específico\, que es totalmente afín con los principios y concep
 tos habitados tanto en el Chi Kung\, el Tai Chi Chuan como en el Taoísmo.
 \nLa propuesta es abrirse a habitar y estudiar la práctica del Contact Im
 provisacón desde el estudio de esta noble trinidad:\nEl Chi Kung: nos bri
 nda un trabajo energético sensible y profundo que amplía nuestra conscie
 ncia\, sensibilidad y escucha.\nEl Tai Chi Chuan es un estilo interno de K
 ung Fu tradicional\, elaborado sobre la filosofía Taoista\, nos invita a 
 desarrollar una raíz dinámica en continúa conexión con la tierra\, una
  estructura íntegra a la vez que móvil y sensible y la sensación contí
 nua del poder creativo interior al organizar sus movimientos primero desde
  el centro y la intención.\nEl Taoísmo es una filosofía ancestral natur
 al china\, que se inspira en el curso natural del mundo\, en continuo camb
 io y armonía\, encontrando siempre el camino más simple para fluir y con
 tinuar\, sin luchar\, adaptando\, nutriendo y cuidando.\nLas herramientas 
 y atributos que desarrollaremos en la práctica detallada de estas 3 disci
 plinas son de gran utilidad para poder habitar danzas seguras\, cuidadas y
  creativas dentro del territorio del Contact Impro y también de la vida c
 otidiana.\nNo te pierdas esta oportunidad de renovar y empoderar tu forma 
 de moverte y relacionarte contigo misma\, el mundo y las demás.\nSin duda
 \, aprenderás un tesoro que cuánto más lo habites\, más beneficios te 
 brindará.\n\n
ATTACH;FMTTYPE=image/jpeg:https://tribunificada.com/wp-content/uploads/202
 6/04/Frame-86.jpg
CATEGORIES:Eventos No Periodicos
LOCATION:La Piconera\, Carrer de Sancho Marraco 6\, Barcelona\, Catalunya\,
  08004\, Barcelona\, España
X-APPLE-STRUCTURED-LOCATION;VALUE=URI;X-ADDRESS=Carrer de Sancho Marraco 6\
 , Barcelona\, Catalunya\, 08004\, Barcelona\, España;X-APPLE-RADIUS=100;X
 -TITLE=La Piconera:geo:0,0
END:VEVENT
BEGIN:VTIMEZONE
TZID:Europe/Madrid
X-LIC-LOCATION:Europe/Madrid
BEGIN:DAYLIGHT
DTSTART:20260329T030000
TZOFFSETFROM:+0100
TZOFFSETTO:+0200
TZNAME:CEST
END:DAYLIGHT
END:VTIMEZONE
END:VCALENDAR