BEGIN:VCALENDAR
VERSION:2.0
PRODID:-//wp-events-plugin.com//6.1.3//EN
TZID:Europe/Madrid
X-WR-TIMEZONE:Europe/Madrid
BEGIN:VEVENT
UID:4155@tribunificada.com
DTSTART;TZID=Europe/Madrid;VALUE=DATE:20260529
DTEND;TZID=Europe/Madrid;VALUE=DATE:20260601
DTSTAMP:20260310T154409Z
URL:https://tribunificada.com/ev/retiro-el-fuego-interno/
SUMMARY:Retiro — El fuego interno
DESCRIPTION:EL FUEGO INTERNO - Despertando el poder personal\nINTRODUCCION
 :\n Un retiro para la libertad interior y del autoconocimiento profundo d
 e la vida\; donde aprenderás a reconocer todo aquello que te ata o amarra
  material\, emocional\, mental y espiritualmente. Es un retiro vivencial p
 ara la salud interior. En Esta época del mundo se hace necesario un traba
 jo interno intenso y es preciso que demos un salto evolutivo para  alcanz
 ar nuestro máximo potencial. Para esto necesitamos sanar desde adentro. L
 a cura\, la sanación depende de nosotros que miremos primero todo aquello
  que nos ata\, y que no nos deja avanzar. Existen ataduras en nuestras man
 os que no nos dejar hacer lo que queremos como el egoismo\, rabia\, dudas 
 existen ataduras en nuestros pies que nos impiden avanzar hacia nuestro de
 stino real como los traumas y temores del pasado. Estas ataduras podemos a
 prender a verlas con compasión y firmeza al mismo tiempo para asi sacarla
 s de nuestras vidas. Estas técnicas ancestrales del mundo andino pueden a
 yudarnos a tener esta claridad que necesitamos en estos tiempos difíciles
  de la humanidad\nCONTENIDO:\nLas ataduras o las cosas que nos atan y no n
 os dejan seguir adelante\nTipos de ataduras (físicas\, emocionales\, ment
 ales\, espirituales) (filosofía Andina)\nDefectos de las personas y la du
 ración de los karmas y cuánto tiempo tarda en liberarse\nLos lazos y el 
 fuego interior\nLa ley del karma del miedo\, del ego y la sombra\nLas rela
 ciones con la familia-pareja-amigos-naturaleza\nEl bien y el mal (Filosof
 ía Andina)\nDe la oscuridad a la Luz (Filosofía de los Andina de los 4 e
 lementos)\nEl trabajo del silencio (enseñanzas zen)\nEl poder personal y 
 al amor propio\nBENEFICIOS:\nClaridad mental para la toma de decisiones\nC
 rea un espacio de introspección personal muy íntima para la autobservaci
 ón\nOcasiona una apertura emocional para interactuar mejor con las person
 as a nuestro alrededor\nTrae comprensión del porque vivimos en este mundo
 \; generando así una mejor organización de nuestras vidas\nBienestar emo
 cional y físico\nCalma mental y paz\nEncender el fuego interior\nOBJETIVO
 S PRINCIPALES:\nObservar\, definir e identificar cuáles son nuestras atad
 uras personales\nEnfrentar nuestras propias ataduras personales y tomar co
 nsciencia de ellas para liberarlas\nHacer un rediseño personal de todas n
 uestras relaciones\nLograr un bienestar profundo recuperando nuestro poder
  personal y amor propio\n&nbsp\;\n\n📅 Fecha y Lugar\nCuándo: Del 29 a
 l 31 de mayo de 2026.\nDónde: Can Benet Vives \nUbicación: En el cora
 zón del Parc Natural Montnegre\, Valle de Hortsavinyà (a 50 km / 1 hora 
 de Barcelona).\n\n👥 Instructores (Desde las montañas del sur de Chile)
 \nZendari: Estratega de almas\, creadora de escuela de protagonismo para 
 mujeres\, terapeuta y consteladora.\nYamtor: Terapeuta\, coach\, entrenad
 or de crecimiento personal\, experto en el arte de soñar y regresiones a 
 vidas pasadas.\n\n💰 Inversión y Reservas\nLos precios son por habitac
 ión compartida e incluyen el seminario completo\, hospedaje\, 3 comidas 
 diarias y snacks.\n \nOferta de Lanzamiento: 435€ agotado\nFase de Prep
 aración: 450€ Hasta el 15/04/26\nÚltimos Lugares: 465€ A partir del 
 15/04/26\n\n📞 Información e Inscripciones\nLas plazas son limitadas. P
 uedes contactar con Sitalar:\nWhatsApp: 631619983\nInstagram: @mina.sit
 alar \nInstagram Instructores: @yamtorcb / @zendari_cb
ATTACH;FMTTYPE=image/jpeg:https://tribunificada.com/wp-content/uploads/202
 6/03/image0.jpeg
CATEGORIES:Eventos No Periodicos
LOCATION:Can Benet Vives\, Vecindario de Hortsavinyà\, 7 - https://maps.ap
 p.goo.gl/oWzkU3Ck2pA5SFr56\, Tordera\, Catalunya\, 08490\, Barcelona\, Esp
 aña
X-APPLE-STRUCTURED-LOCATION;VALUE=URI;X-ADDRESS=Vecindario de Hortsavinyà\
 , 7 - https://maps.app.goo.gl/oWzkU3Ck2pA5SFr56\, Tordera\, Catalunya\, 08
 490\, Barcelona\, España;X-APPLE-RADIUS=100;X-TITLE=Can Benet Vives:geo:0
 ,0
END:VEVENT
BEGIN:VTIMEZONE
TZID:Europe/Madrid
X-LIC-LOCATION:Europe/Madrid
BEGIN:DAYLIGHT
DTSTART:20260329T030000
TZOFFSETFROM:+0100
TZOFFSETTO:+0200
TZNAME:CEST
END:DAYLIGHT
END:VTIMEZONE
END:VCALENDAR