BEGIN:VCALENDAR
VERSION:2.0
PRODID:-//wp-events-plugin.com//6.1.3//EN
TZID:Europe/Madrid
X-WR-TIMEZONE:Europe/Madrid
BEGIN:VEVENT
UID:4087@tribunificada.com
DTSTART;TZID=Europe/Madrid:20260428T180000
DTEND;TZID=Europe/Madrid:20260428T200000
DTSTAMP:20260202T120933Z
URL:https://tribunificada.com/ev/fusion-dance-a-les-alcades-party-3/
SUMMARY:Fusion Dance a les Alçades Party
DESCRIPTION:Bienvenid@\nel Fusió a les Alçades es el resultado de la tran
 smutación de nuestro mítico Blues a les Alçades en Casa Lazar.\nBuscamo
 s la belleza\, la conexión\, el groove\, los momentums\, la fluidez\, las
  caminatas\, la intimidad\, las danzas elásticas…\nNos encontramos en e
 l Fusion Dance.\n"A través de tu cuerpo\, siento mi cuerpo"\nMENÚ\n21:30
 h Open doors\n22:00h Intro al Fusion\n22:15h Jam with Music Selector Invit
 ed\n24h Intro al Micro\n24:15h Jam Micro with Alba Vibes &amp\; Yass Music
  Selection\n01h:15h Final\n* Durante la sesión de micro tenemos diferente
 s músicos invitados que intervienen alternativamente con el dj set... pia
 no\, handpan\, guitarra\, violin\, theremin...\n** No es necesario tener b
 ackground de bailes en pareja.\n*** Sino tienes experiencia o no conoces e
 l Fusion\, tan solo ven con un mindset de respeto y ganas de conectar.\n\n
 DETAILS:\n- Tenemos fuente de agua\, trae tu botella para rellenar\n- Serv
 icio de barra\n- Puedes traer algo de pica-pica para compartir\n- Terraza 
 con vistas\nCONDUCT CODE:\n- La pista de baile es un lugar libre de palabr
 a\, permanecemos en silencio\, puedes ir a hablar a la terraza o al lobby\
 n- Bailamos descalzos o con zapatos de baile.\n- El consentimiento es una 
 es necesidad\, es decir no es automático.\nDRESS CODE:\n- Ven con ropa c
 ómoda que te haga sentir fantástic@. Preferiblemente de color blanco. En
  el Fusió a les Alçades invocamos la belleza y el abrazo como acto urgen
 te revolucionario.\nMANIFIESTO:\nFusion Dance es un movimiento global.\nFu
 sion Dance es una cultura.\nFusion Dance es un espacio.\nFusion Dance resp
 eta todas las formas y estilos de baile\, ya que bebe de ellos.\n\n¿Pero 
 que es el Fusion Dance?\nFusion Dance es el arte de bailar en pareja de fo
 rma improvisada mezclando diferentes estilos de baile durante la misma can
 ción.\nNo tenemos un paso básico\, ni una música específica.\nUn soña
 do bailarín de Fusion improvisa con: groove\, caminatas\, abrazos\, momen
 tums y fluidez.\nSegún la pareja que baila puede ser:\n– un estado (med
 itativo en quietud o en movimiento)\n– una técnica (de uno o varios est
 ilos establecidos)\n– un arte (una poesía \, un romance de tres minutos
 )\nCheck this interview where Paco Salazar ask Flouer Evelyn about:\n¿Wha
 t's fusion dance?\n¿Y el Micro?\nAntes lo llamábamos Micro Blues\, es un
  baile íntimo y sutil en posición cerrada y birol. Desde fuera el espect
 ador apenas percibe movimiento\, desde dentro se da un universo infinito d
 e variaciones y sensaciones.\nPst! Si quieres profundizar en la cultura Fu
 sion\, ven a nuestras clases al Fusion Dance Lab.\nhttps://entradium.com/e
 s/events/fusion-a-les-alcades-party
CATEGORIES:Eventos No Periodicos,Eventos Periódicos,Eventos periodicos -
 No Semanales
LOCATION:Casa Lazar\, Calle Pere IV\, 29\, 7º 4º Atico - https://goo.gl/m
 aps/CXQTZefZU5XupFdm9\, Barcelona\, Catalunya\, 08018\, Barcelona\, Españ
 a
X-APPLE-STRUCTURED-LOCATION;VALUE=URI;X-ADDRESS=Calle Pere IV\, 29\, 7º 4
 º Atico - https://goo.gl/maps/CXQTZefZU5XupFdm9\, Barcelona\, Catalunya\,
  08018\, Barcelona\, España;X-APPLE-RADIUS=100;X-TITLE=Casa Lazar:geo:0,0
END:VEVENT
BEGIN:VTIMEZONE
TZID:Europe/Madrid
X-LIC-LOCATION:Europe/Madrid
BEGIN:DAYLIGHT
DTSTART:20260329T030000
TZOFFSETFROM:+0100
TZOFFSETTO:+0200
TZNAME:CEST
END:DAYLIGHT
END:VTIMEZONE
END:VCALENDAR