BEGIN:VCALENDAR
VERSION:2.0
PRODID:-//wp-events-plugin.com//6.1.3//EN
TZID:Europe/Madrid
X-WR-TIMEZONE:Europe/Madrid
BEGIN:VEVENT
UID:4236@tribunificada.com
DTSTART;TZID=Europe/Madrid:20260501T170000
DTEND;TZID=Europe/Madrid:20260501T194500
DTSTAMP:20260424T080343Z
URL:https://tribunificada.com/ev/constelaciones-familiares-28/
SUMMARY:Constelaciones Familiares
DESCRIPTION:*Taller de Constelaciones Familiares*\nEs un espacio donde saca
 r a la luz dinámicas ocultas que viene de tu propia historia y a la vez d
 el sistema familiar que por lealtad las cargamos como propias .\nDesde all
 í las reconocemos para ordenar y liberar🌸 y escoger una nueva vivencia
  interna.
ATTACH;FMTTYPE=image/jpeg:https://tribunificada.com/wp-content/uploads/202
 6/04/logo-spa-belleza-femenino-elegante-dorado_20260424_093152_0000.jpg
CATEGORIES:Eventos No Periodicos
END:VEVENT
BEGIN:VTIMEZONE
TZID:Europe/Madrid
X-LIC-LOCATION:Europe/Madrid
BEGIN:DAYLIGHT
DTSTART:20260329T030000
TZOFFSETFROM:+0100
TZOFFSETTO:+0200
TZNAME:CEST
END:DAYLIGHT
END:VTIMEZONE
END:VCALENDAR